BEGIN:VCALENDAR
PRODID:-//dvv-bw.de//dvv.Portalplattform//DE
VERSION:2.0
METHOD:PUBLISH
BEGIN:VEVENT
DTSTART:20260517T130000Z
DTEND:20260517T150000Z
DTSTAMP:20260426T020018Z
UID:4524452-4475606-1778968800000
SUMMARY:Stolpersteinverlegung
LOCATION:Marktplatz Tauberbischofsheim, Marktplatz, 97941 Tauberbischofsheim
DESCRIPTION:In Tauberbischofsheim werden erstmals Stolpersteine verlegt - 12 Stück an vier Orten in der Innenstadt. Mit diesen erinnern wir an Menschen aus unserer Stadt\, die Opfer der nationalsozialistischen Gewaltherrschaft wurden.Wir setzen gemeinsam ein Zeichen gegen das Vergessen.\nRahmenprogramm:Der Badische Hof zeigt am 14. Mai um 19 Uhr als Einstimmung auf das Thema den Film „Die Wohnung“.
CLASS:PUBLIC
X-ALT-DESC;FMTTYPE=text/html:In Tauberbischofsheim werden erstmals Stolpersteine verlegt - 12 Stück an vier Orten in der Innenstadt. Mit diesen erinnern wir an Menschen aus unserer Stadt\, die Opfer der nationalsozialistischen Gewaltherrschaft wurden.Wir setzen gemeinsam ein Zeichen gegen das Vergessen.<br>Rahmenprogramm:Der Badische Hof zeigt am 14. Mai um 19 Uhr als Einstimmung auf das Thema den Film &bdquo;Die Wohnung&ldquo;.
END:VEVENT
END:VCALENDAR
