BEGIN:VCALENDAR
PRODID:-//dvv-bw.de//dvv.Portalplattform//DE
VERSION:2.0
METHOD:PUBLISH
BEGIN:VEVENT
DTSTART:20261010T140000Z
DTEND:20261010T210000Z
DTSTAMP:20260424T105852Z
UID:4374583-4073345-1791583200000
SUMMARY:Hochhäuser Herbstfest
LOCATION:Grünauer Hof
DESCRIPTION:Der Förderverein der Kita St. Michael lädt herzlich zum Hochhäuser Herbstfest ein.\nEs werden passend zum Herbst leckere Speisen und Getränke angeboten.\nDie großen und kleinen Besucher dürfen sich auf Zwiebelkuchen mit Federweißer\, Kartoffelsuppe mit oder ohne Wienerle und süße Überraschungstüten freuen.\nDer Erlös kommt der Kita und den Kindern zugute.\n\nPreise\n\nEintritt frei!\nNur der Verzehr ist kostenpflichtig - dessen Erlös kommt der Kita und den Kindern zugute.\n\n\n\nVeranstalter\nFörderverein der Kita St. Michael\, Hochhausen
CLASS:PUBLIC
X-ALT-DESC;FMTTYPE=text/html:Der Förderverein der Kita St. Michael lädt herzlich zum Hochhäuser Herbstfest ein.<br>Es werden passend zum Herbst leckere Speisen und Getränke angeboten.<br>Die großen und kleinen Besucher dürfen sich auf Zwiebelkuchen mit Federweißer\, Kartoffelsuppe mit oder ohne Wienerle und süße Überraschungstüten freuen.<br>Der Erlös kommt der Kita und den Kindern zugute.<br><br>Preise<br><br>Eintritt frei!<br>Nur der Verzehr ist kostenpflichtig - dessen Erlös kommt der Kita und den Kindern zugute.<br><br><br><br>Veranstalter<br>Förderverein der Kita St. Michael\, Hochhausen
END:VEVENT
END:VCALENDAR
