BEGIN:VCALENDAR
PRODID:-//dvv-bw.de//dvv.Portalplattform//DE
VERSION:2.0
METHOD:PUBLISH
BEGIN:VEVENT
DTSTART:20261213T130000Z
DTEND:20261213T190000Z
DTSTAMP:20260421T154112Z
UID:4096942-4090468-1797116400000
SUMMARY:"Tauberbischofsheimer Schlossweihnacht"
LOCATION:Schlossplatz, Schlossplatz, 97941 Tauberbischofsheim
DESCRIPTION:Die "Tauberbischofsheimer Schlossweihnacht" lädt ein\, sich am zweiten und dritten Adventswochenende auf die Weihnachtszeit einzustimmen. \nGeöffnet ist das Hüttendorf freitags von 16 bis 21 Uhr\, samstags von 14 bis 21 Uhr und sonntags von 14 bis 20 Uhr.\nTäglich erwartet die Besucherinnen und Besucher ein abwechslungsreiches Bühnenprogramm.\nDas Programm für 2026 wird zu gegebener Zeit bekannt gegeben!
CLASS:PUBLIC
X-ALT-DESC;FMTTYPE=text/html:Die "Tauberbischofsheimer Schlossweihnacht" lädt ein\, sich am zweiten und dritten Adventswochenende auf die Weihnachtszeit einzustimmen. <br>Geöffnet ist das Hüttendorf freitags von 16 bis 21 Uhr\, samstags von 14 bis 21 Uhr und sonntags von 14 bis 20 Uhr.<br>Täglich erwartet die Besucherinnen und Besucher ein abwechslungsreiches Bühnenprogramm.<br>Das Programm für 2026 wird zu gegebener Zeit bekannt gegeben!
END:VEVENT
END:VCALENDAR
