BEGIN:VCALENDAR
PRODID:-//dvv-bw.de//dvv.Portalplattform//DE
VERSION:2.0
METHOD:PUBLISH
BEGIN:VEVENT
DTSTART:20260509T080000Z
DTEND:20260509T140000Z
DTSTAMP:20260423T195907Z
UID:4493408-4493306-1778277600000
SUMMARY:35 Jahre Weltladen Tauberbischofsheim
LOCATION:Weltladen\, Hauptstraße 45\, 97941 Tauberbischofsheim
DESCRIPTION:Zu diesem Anlass lädt der Weltladen in der Hauptstraße 45 herzlich ein. Genießen Sie bei einer Tasse fair gehandeltem Kaffee kleine Köstlichkeiten aus dem reichhaltigen Sortiment. Dank der Treue der Kundschaft kann der Weltladen seit 35 Jahren Menschen unterstützen und durch gezielte Projekte ihren Lebensstandard sichern. Dank Ausbildungsangeboten in Landwirtschaft und Handwerk sowie durch Materialspenden wird den Menschen ein Einkommen ermöglicht\, damit sie für sich und ihre Familien sorgen können. Die Mitarbeiterinnen des Weltladens freuen sich auf Ihren Besuch.
CLASS:PUBLIC
X-ALT-DESC;FMTTYPE=text/html:Zu diesem Anlass lädt der Weltladen in der Hauptstraße 45 herzlich ein. Genießen Sie bei einer Tasse fair gehandeltem Kaffee kleine Köstlichkeiten aus dem reichhaltigen Sortiment. Dank der Treue der Kundschaft kann der Weltladen seit 35 Jahren Menschen unterstützen und durch gezielte Projekte ihren Lebensstandard sichern. Dank Ausbildungsangeboten in Landwirtschaft und Handwerk sowie durch Materialspenden wird den Menschen ein Einkommen ermöglicht\, damit sie für sich und ihre Familien sorgen können. Die Mitarbeiterinnen des Weltladens freuen sich auf Ihren Besuch.
END:VEVENT
END:VCALENDAR
