BEGIN:VCALENDAR
PRODID:-//dvv-bw.de//dvv.Portalplattform//DE
VERSION:2.0
METHOD:PUBLISH
BEGIN:VEVENT
DTSTART:20260606T060000Z
DTEND:20260606T130000Z
DTSTAMP:20260420T144436Z
UID:4096938-4090464-1780696800000
SUMMARY:29. Oldtimertreffen
LOCATION:Schlossplatz, Schlossplatz, 97941 Tauberbischofsheim
DESCRIPTION:Ca. 100 Oldtimer aller Klassen\, zwei- und vierrädrig\, werden erwartet.\nSie haben Interesse\, Ihren Oldtimer auszustellen? Anmeldung unter ac.tbb1928(at)t-online.de oder Telefon: 09341 5406 und 0171 5259666.\n\n\nDer Automobilclub Tauberbischofsheim e.V. im ADAC veranstaltet am Samstag\, 6. Juni 2026\, ab 8.00 Uhr sein 29. Oldtimertreffen rund um das Kurmainzische Schloss.\nDer Club möchte schon heute alle Freunde und Besitzer von alten Automobilen und Motorrädern zu dieser Veranstaltung einladen (Anmeldung ist erforderlich).\nBitte geben Sie diese Einladung auch an Freunde und bekannte Oldtimerbesitzer weiter.\nDie Teilnehmer treffen sich zwanglos ab 9.00 Uhr rund um das Schloss und erhalten zur Begrüßung ein Glas Sekt.\nIm Rahmen des Treffens ist ein Autokorso durch die Stadt geplant. Anmeldungen für die Veranstaltung sind unter der E-Mail-Adresse ac.tbb1928@t- online.de oder unter Telefon 09341 5406 oder 0171 5259666 beim 1.Vors. Hans-Jürgen Pahl möglich.
CLASS:PUBLIC
X-ALT-DESC;FMTTYPE=text/html:Ca. 100 Oldtimer aller Klassen\, zwei- und vierrädrig\, werden erwartet.<br>Sie haben Interesse\, Ihren Oldtimer auszustellen? Anmeldung unter ac.tbb1928(at)t-online.de oder Telefon: 09341 5406 und 0171 5259666.<br><br><br>Der Automobilclub Tauberbischofsheim e.V. im ADAC veranstaltet am Samstag\, 6. Juni 2026\, ab 8.00 Uhr sein 29. Oldtimertreffen rund um das Kurmainzische Schloss.<br>Der Club möchte schon heute alle Freunde und Besitzer von alten Automobilen und Motorrädern zu dieser Veranstaltung einladen (Anmeldung ist erforderlich).<br>Bitte geben Sie diese Einladung auch an Freunde und bekannte Oldtimerbesitzer weiter.<br>Die Teilnehmer treffen sich zwanglos ab 9.00 Uhr rund um das Schloss und erhalten zur Begrüßung ein Glas Sekt.<br>Im Rahmen des Treffens ist ein Autokorso durch die Stadt geplant. Anmeldungen für die Veranstaltung sind unter der E-Mail-Adresse ac.tbb1928@t- online.de oder unter Telefon 09341 5406 oder 0171 5259666 beim 1.Vors. Hans-Jürgen Pahl möglich.
END:VEVENT
END:VCALENDAR
