BEGIN:VCALENDAR
PRODID:-//dvv-bw.de//dvv.Portalplattform//DE
VERSION:2.0
METHOD:PUBLISH
BEGIN:VEVENT
DTSTART:20260722T193000Z
DTEND:20260726T213000Z
DTSTAMP:20260420T205452Z
RRULE;FREQ=DAILY;UNTIL=20260726T215959Z
UID:4286363-4073305-1784671200000
SUMMARY:23. Open-Air-Kino
LOCATION:Schlossplatz, Schlossplatz, 97941 Tauberbischofsheim
DESCRIPTION:Von Mittwoch bis Sonntag werden fünf Filme auf dem Schlossplatz gespielt. Bewirtung vor Ort.\nEinlass jeweils um 19.30 Uhr\, Filmbeginn dann ca. ab 21.30 Uhr.\nFN-Premium-Card-Inhaber erhalten an der Abendkasse 2 € Preisnachlass für max. 2 Personen!\nWeitere Informationen oder Kartenreservierung unter: www.rotary-tbb.de\n\n \n\n\nDie einzelnen Filme werden zu gegebener Zeit bekannt gegeben.\n\nwww.rotary.de/tauberbischofsheim\n\nPreise\n\nVorverkauf: Endet jeweils am Vorabend\nAbendkasse: ab 19.30 Uhr geöffnet\nDie Einnahmen kommen einem Förderprojekt zugute.\n \nDie Preise werden zu gegebener Zeit bekannt gegeben!\n\nTicket kaufen\n\n\nAnmeldung und Vorverkauf\n\nVorverkaufsstellen: Buchhandel Schwarz auf Weiss (Tauberbischofsheim)\, FN-Kundenforum (Tauberbischofsheim)\, O`Vita Stadt Apotheke (Lauda-Königshofen)\nDer Vorverkauf endet jeweils am Vorabend!\nAls neuen Service bietet der Rotary-Club auch den Online-Ticket-Kauf an. Weitere Infos und die Tickets gibt es unter https://rotary-tbb.de.
CLASS:PUBLIC
X-ALT-DESC;FMTTYPE=text/html:Von Mittwoch bis Sonntag werden fünf Filme auf dem Schlossplatz gespielt. Bewirtung vor Ort.<br>Einlass jeweils um 19.30 Uhr\, Filmbeginn dann ca. ab 21.30 Uhr.<br>FN-Premium-Card-Inhaber erhalten an der Abendkasse 2 &euro; Preisnachlass für max. 2 Personen!<br>Weitere Informationen oder Kartenreservierung unter: www.rotary-tbb.de<br><br> <br><br><br>Die einzelnen Filme werden zu gegebener Zeit bekannt gegeben.<br><br>www.rotary.de/tauberbischofsheim<br><br>Preise<br><br>Vorverkauf: Endet jeweils am Vorabend<br>Abendkasse: ab 19.30 Uhr geöffnet<br>Die Einnahmen kommen einem Förderprojekt zugute.<br> <br>Die Preise werden zu gegebener Zeit bekannt gegeben!<br><br>Ticket kaufen<br><br><br>Anmeldung und Vorverkauf<br><br>Vorverkaufsstellen: Buchhandel Schwarz auf Weiss (Tauberbischofsheim)\, FN-Kundenforum (Tauberbischofsheim)\, O`Vita Stadt Apotheke (Lauda-Königshofen)<br>Der Vorverkauf endet jeweils am Vorabend!<br>Als neuen Service bietet der Rotary-Club auch den Online-Ticket-Kauf an. Weitere Infos und die Tickets gibt es unter https://rotary-tbb.de.
END:VEVENT
END:VCALENDAR
