BEGIN:VCALENDAR
PRODID:-//dvv-bw.de//dvv.Portalplattform//DE
VERSION:2.0
METHOD:PUBLISH
BEGIN:VEVENT
DTSTART:20260605T190000Z
DTEND:20260605T191500Z
DTSTAMP:20260423T101101Z
UID:4096925-4090462-1780610400000
SUMMARY:Turmblasen "Das Abendlied vom Türmersturm"
LOCATION:Türmersturm\, Schlossplatz\, 97941 Tauberbischofsheim
DESCRIPTION:Die regulären Turmbläsertermine 2026 sind von 10. April bis 9. Oktober 2026 und dauern jeweils von 21 bis 21.15 bzw. 21.30 Uhr (mit Zugabe).\nAusnahme: Am 3. Juli 2026 findet kein Turmblasen statt wegen dem Altstadtfest.\n \n\n\nDas "Abendlied vom Türmersturm" sowie einige weitere Melodien werden gespielt aus den Fenstern des Türmersturms von 3 Bläsern (Gustav und Thorsten Endres sowie Andreas Schreck) der Stadt- und Feuerwehrkapelle Tauberbischofsheim unter Leitung von Gustav Endres. Die Serenade wird von den Fränkischen Nachrichten präsentiert und von der EnBW unterstützt.
CLASS:PUBLIC
X-ALT-DESC;FMTTYPE=text/html:Die regulären Turmbläsertermine 2026 sind von 10. April bis 9. Oktober 2026 und dauern jeweils von 21 bis 21.15 bzw. 21.30 Uhr (mit Zugabe).<br>Ausnahme: Am 3. Juli 2026 findet kein Turmblasen statt wegen dem Altstadtfest.<br> <br><br><br>Das "Abendlied vom Türmersturm" sowie einige weitere Melodien werden gespielt aus den Fenstern des Türmersturms von 3 Bläsern (Gustav und Thorsten Endres sowie Andreas Schreck) der Stadt- und Feuerwehrkapelle Tauberbischofsheim unter Leitung von Gustav Endres. Die Serenade wird von den Fränkischen Nachrichten präsentiert und von der EnBW unterstützt.
END:VEVENT
END:VCALENDAR
