BEGIN:VCALENDAR
PRODID:-//dvv-bw.de//dvv.Portalplattform//DE
VERSION:2.0
METHOD:PUBLISH
BEGIN:VEVENT
DTSTART:20260711T120000Z
DTEND:20260711T160000Z
DTSTAMP:20260420T132120Z
UID:4229302-4229202-1783720800000
SUMMARY:Sparkassen-Pool-Party im Freibad
LOCATION:Frankenbad, Vitryallee 9, 97941 Tauberbischofsheim
DESCRIPTION:Freibad-Spaß für Groß und Klein!
CLASS:PUBLIC
X-ALT-DESC;FMTTYPE=text/html:Freibad-Spaß für Groß und Klein!
END:VEVENT
END:VCALENDAR
