BEGIN:VCALENDAR
PRODID:-//dvv-bw.de//dvv.Portalplattform//DE
VERSION:2.0
METHOD:PUBLISH
BEGIN:VEVENT
DTSTART:20260620T150000Z
DTEND:20260620T150000Z
DTSTAMP:20260420T131103Z
UID:4096937-4090463-1781906400000
SUMMARY:Rosé Weinfestival mit Live-Musik
LOCATION:Schlossplatz, Schlossplatz, 97941 Tauberbischofsheim
DESCRIPTION:Gemütliches Weinfest am Marktplatz mit einem tollen Angebot an vielen verschiedenen Weinen\, eleganter Livemusik einem umfangreichen Speisenangebot!\nEs wird zahlreiche herzhafte Leckereien geben.\nOffizielle Eröffung um 18 Uhr mit Bürgermeisterin Anette Schmidt (oder Vertreter*in) und Weinhoheiten.
CLASS:PUBLIC
X-ALT-DESC;FMTTYPE=text/html:Gemütliches Weinfest am Marktplatz mit einem tollen Angebot an vielen verschiedenen Weinen\, eleganter Livemusik einem umfangreichen Speisenangebot!<br>Es wird zahlreiche herzhafte Leckereien geben.<br>Offizielle Eröffung um 18 Uhr mit Bürgermeisterin Anette Schmidt (oder Vertreter*in) und Weinhoheiten.
END:VEVENT
END:VCALENDAR
