BEGIN:VCALENDAR
PRODID:-//dvv-bw.de//dvv.Portalplattform//DE
VERSION:2.0
METHOD:PUBLISH
BEGIN:VEVENT
DTSTART:20260720T170000Z
DTEND:20260720T200000Z
DTSTAMP:20260420T205646Z
UID:4512101-4512001-1784498400000
SUMMARY:NORRY - Andreas Gabalier Double
LOCATION:Klostergarten
DESCRIPTION:NORRY - Andreas Gabalier Double
CLASS:PUBLIC
X-ALT-DESC;FMTTYPE=text/html:NORRY - Andreas Gabalier Double
END:VEVENT
END:VCALENDAR
