BEGIN:VCALENDAR
PRODID:-//dvv-bw.de//dvv.Portalplattform//DE
VERSION:2.0
METHOD:PUBLISH
BEGIN:VEVENT
DTSTART:20260723T220000Z
DTEND:20260725T220000Z
DTSTAMP:20260420T192412Z
RRULE;FREQ=DAILY;UNTIL=20260726T215959Z
UID:4122308-4110492-1784844000000
SUMMARY:Mühlkanalfest mit Schlauchbootrallye in Impfingen
LOCATION:Pavillon am Ploo, Zum Plan, 97941 Tauberbischofsheim
DESCRIPTION:Zum traditonellen Mühkanalfest lädt die DLRG Impfingen auch 2026 wieder ein. Am Freitag Abend startet das Festwochenende mit einer Live Band.\nHighlight ist die traditionelle Schlauchbootrallye auf der Tauber am Samstag\, 25.07. Hierbei kann jeder mitmachen und der Spaß ist vorprogrammiert. Der Sonntag steht ganz im Zeichen der Familien. Für die Kinder gibt es eine Spielstraße\, bei der jedes Kind eine Ente für die im Anschluss staffindende Entenrallye erwerben kann. \n \nDie Anmeldung für die Schlauchbootrallye findet am Samstag vor der Rallye oberhalb des Tauberwehrs statt. Hierbei ist eine Startgebühr von 15 € zu entrichten.\nKontakt: dlrgvorstand@web.de
CLASS:PUBLIC
X-ALT-DESC;FMTTYPE=text/html:Zum traditonellen Mühkanalfest lädt die DLRG Impfingen auch 2026 wieder ein. Am Freitag Abend startet das Festwochenende mit einer Live Band.<br>Highlight ist die traditionelle Schlauchbootrallye auf der Tauber am Samstag\, 25.07. Hierbei kann jeder mitmachen und der Spaß ist vorprogrammiert. Der Sonntag steht ganz im Zeichen der Familien. Für die Kinder gibt es eine Spielstraße\, bei der jedes Kind eine Ente für die im Anschluss staffindende Entenrallye erwerben kann. <br> <br>Die Anmeldung für die Schlauchbootrallye findet am Samstag vor der Rallye oberhalb des Tauberwehrs statt. Hierbei ist eine Startgebühr von 15 &euro; zu entrichten.<br>Kontakt: dlrgvorstand@web.de
END:VEVENT
END:VCALENDAR
