BEGIN:VCALENDAR
PRODID:-//dvv-bw.de//dvv.Portalplattform//DE
VERSION:2.0
METHOD:PUBLISH
BEGIN:VEVENT
DTSTART:20260501T080000Z
DTEND:20260501T100000Z
DTSTAMP:20260420T103831Z
UID:4407653-4407553-1777586400000
SUMMARY:Maifest in Dittigheim
LOCATION:Sporthalle TV Dittigheim 1937 e. V., Kastanienallee 6, 97941 Tauberbischofsheim
DESCRIPTION:Zum Maifest laden die Sängerinnen und Sänger des Singkreises Dittigheim sehr herzlich ein. Um 10 Uhr startet das Fest unter dem Maibaum vor der Dittigheimer Turnhalle mit einem Frühschoppen. Außer Getränken aller Art\, diversen Weinen\, Grillspezialitäten\, Sängerbraten und Grünkernküchle erwartet die Gäste eine reichhaltige Kaffee und Kuchenbar. Bei ungünstigem Wetter findet die Veranstaltung in der Halle statt. Der Singkreis freut sich auf zahlreiche Besucher.
CLASS:PUBLIC
X-ALT-DESC;FMTTYPE=text/html:Zum Maifest laden die Sängerinnen und Sänger des Singkreises Dittigheim sehr herzlich ein. Um 10 Uhr startet das Fest unter dem Maibaum vor der Dittigheimer Turnhalle mit einem Frühschoppen. Außer Getränken aller Art\, diversen Weinen\, Grillspezialitäten\, Sängerbraten und Grünkernküchle erwartet die Gäste eine reichhaltige Kaffee und Kuchenbar. Bei ungünstigem Wetter findet die Veranstaltung in der Halle statt. Der Singkreis freut sich auf zahlreiche Besucher.
END:VEVENT
END:VCALENDAR
