BEGIN:VCALENDAR
PRODID:-//dvv-bw.de//dvv.Portalplattform//DE
VERSION:2.0
METHOD:PUBLISH
BEGIN:VEVENT
DTSTART:20260426T080000Z
DTEND:20260426T100000Z
DTSTAMP:20260420T120714Z
UID:4459651-4459772-1777154400000
SUMMARY:Maifest der Freiwilligen Feuerwehr
LOCATION:Wörtplatz
DESCRIPTION:Die Freiwillige Feuerwehr Tauberbischofsheim\, Abteilung Stadt\, lädt herzlich zum alljährlichen Maifest an das Feuerwehrgerätehaus am Wörtplatz ein.\nLos geht es um 10 Uhr mit einem zünftigen Weißwurstfrühstück. Hierfür wird um zeitnahe Anmeldung per E-Mail an info@feuerwehr-tbb.de gebeten.\nRund um die Feuerwache erwartet Sie ganztägig ein abwechslungsreiches Angebot sowie eine Fahrzeugschau. Hierbei kommen Jung und Alt auf ihre Kosten.\nFür das leibliche Wohl ist ebenfalls bestens gesorgt – mit Speisen und Getränken sowie Kaffee und Kuchen. Neu in diesem Jahr: ein Mittagstisch mit Braten und Spätzle sowie Käsespätzle.\nDie Feuerwehr Tauberbischofsheim freut sich auf Ihren Besuch!
CLASS:PUBLIC
X-ALT-DESC;FMTTYPE=text/html:Die Freiwillige Feuerwehr Tauberbischofsheim\, Abteilung Stadt\, lädt herzlich zum alljährlichen Maifest an das Feuerwehrgerätehaus am Wörtplatz ein.<br>Los geht es um 10 Uhr mit einem zünftigen Weißwurstfrühstück. Hierfür wird um zeitnahe Anmeldung per E-Mail an info@feuerwehr-tbb.de gebeten.<br>Rund um die Feuerwache erwartet Sie ganztägig ein abwechslungsreiches Angebot sowie eine Fahrzeugschau. Hierbei kommen Jung und Alt auf ihre Kosten.<br>Für das leibliche Wohl ist ebenfalls bestens gesorgt &ndash; mit Speisen und Getränken sowie Kaffee und Kuchen. Neu in diesem Jahr: ein Mittagstisch mit Braten und Spätzle sowie Käsespätzle.<br>Die Feuerwehr Tauberbischofsheim freut sich auf Ihren Besuch!
END:VEVENT
END:VCALENDAR
