BEGIN:VCALENDAR
PRODID:-//dvv-bw.de//dvv.Portalplattform//DE
VERSION:2.0
METHOD:PUBLISH
BEGIN:VEVENT
DTSTART:20260430T160000Z
DTEND:20260430T180000Z
DTSTAMP:20260420T042534Z
UID:4512107-4512007-1777500000000
SUMMARY:Maibaumfest Impfinger Musikanten
LOCATION:Pavillon am Ploo, Zum Plan, 97941 Tauberbischofsheim
DESCRIPTION:Die Impfinger Musikanten laden auch dieses Jahr wieder zum Maibaumfest am 30. April nach Impfingenein. Das Fest\, mit dem der Frühling freudig begrüßtwird\, ist in Impfingen schon zur Tradition geworden. Erfahrungsgemäß schmecken die ersten Bratwürste und Steaks im Jahr in geselliger Runde bei einem frischen Getränk und guter Musik besonders gut.Das Maibaumfest beginnt um 18 Uhr am Ploo\, dem Impfinger Ortsmittelpunkt am Pavillon.Die Musikerinnen und Musiker der Musikkapelle Impfingen e. V. freuen sich\, die Bevölkerung und Freunde aus nah und fern zum Fest unterm Maibaum einladen zu dürfen.
CLASS:PUBLIC
X-ALT-DESC;FMTTYPE=text/html:Die Impfinger Musikanten laden auch dieses Jahr wieder zum Maibaumfest am 30. April nach Impfingenein. Das Fest\, mit dem der Frühling freudig begrüßtwird\, ist in Impfingen schon zur Tradition geworden. Erfahrungsgemäß schmecken die ersten Bratwürste und Steaks im Jahr in geselliger Runde bei einem frischen Getränk und guter Musik besonders gut.Das Maibaumfest beginnt um 18 Uhr am Ploo\, dem Impfinger Ortsmittelpunkt am Pavillon.Die Musikerinnen und Musiker der Musikkapelle Impfingen e. V. freuen sich\, die Bevölkerung und Freunde aus nah und fern zum Fest unterm Maibaum einladen zu dürfen.
END:VEVENT
END:VCALENDAR
