BEGIN:VCALENDAR
PRODID:-//dvv-bw.de//dvv.Portalplattform//DE
VERSION:2.0
METHOD:PUBLISH
BEGIN:VEVENT
DTSTART:20260606T170000Z
DTEND:20260606T190000Z
DTSTAMP:20260420T142430Z
UID:4505666-4505566-1780696800000
SUMMARY:Liveband "The Uniques" am Stadtstrand
LOCATION:Tauber-Terrassen\, Am Wört 1\, 97941 Tauberbischofsheim
DESCRIPTION:Livemusik mit "The Uniques" an den Tauber-Terrassen\nAuch für das leibliche Wohl ist bestens gesorgt!
CLASS:PUBLIC
X-ALT-DESC;FMTTYPE=text/html:Livemusik mit "The Uniques" an den Tauber-Terrassen<br>Auch für das leibliche Wohl ist bestens gesorgt!
END:VEVENT
END:VCALENDAR
