BEGIN:VCALENDAR
PRODID:-//dvv-bw.de//dvv.Portalplattform//DE
VERSION:2.0
METHOD:PUBLISH
BEGIN:VEVENT
DTSTART:20260530T170000Z
DTEND:20260530T190000Z
DTSTAMP:20260420T141306Z
UID:4450309-4450553-1780092000000
SUMMARY:Liveband "STARLIGHTS" am Stadtstrand
LOCATION:Tauber-Terrassen\, Am Wört 1\, 97941 Tauberbischofsheim
DESCRIPTION:Liveband "STARLIGHTS" am Stadtstrand
CLASS:PUBLIC
X-ALT-DESC;FMTTYPE=text/html:Liveband "STARLIGHTS" am Stadtstrand
END:VEVENT
END:VCALENDAR
