BEGIN:VCALENDAR
PRODID:-//dvv-bw.de//dvv.Portalplattform//DE
VERSION:2.0
METHOD:PUBLISH
BEGIN:VEVENT
DTSTART:20260618T170000Z
DTEND:20260618T190000Z
DTSTAMP:20260420T210045Z
UID:4505667-4505567-1781733600000
SUMMARY:Liveband "Jets Duo" am Stadtstrand
LOCATION:Tauber-Terrassen\, Am Wört 1\, 97941 Tauberbischofsheim
DESCRIPTION:Livemusik mit "Jets Duo" an den Tauber-Terrassen\nAuch für das leibliche Wohl ist bestens gesorgt!
CLASS:PUBLIC
X-ALT-DESC;FMTTYPE=text/html:Livemusik mit "Jets Duo" an den Tauber-Terrassen<br>Auch für das leibliche Wohl ist bestens gesorgt!
END:VEVENT
END:VCALENDAR
