BEGIN:VCALENDAR
PRODID:-//dvv-bw.de//dvv.Portalplattform//DE
VERSION:2.0
METHOD:PUBLISH
BEGIN:VEVENT
DTSTART:20260720T170000Z
DTEND:20260722T200000Z
DTSTAMP:20260420T114327Z
RRULE;FREQ=DAILY;UNTIL=20260722T215959Z
UID:4229304-4229203-1784498400000
SUMMARY:Kultursommer
LOCATION:Klostergarten
DESCRIPTION:Kultursommer
CLASS:PUBLIC
X-ALT-DESC;FMTTYPE=text/html:Kultursommer
END:VEVENT
END:VCALENDAR
