BEGIN:VCALENDAR
PRODID:-//dvv-bw.de//dvv.Portalplattform//DE
VERSION:2.0
METHOD:PUBLISH
BEGIN:VEVENT
DTSTART:20260721T170000Z
DTEND:20260721T200000Z
DTSTAMP:20260420T113711Z
UID:4512102-4512002-1784584800000
SUMMARY:KAAY - Theater und Musical
LOCATION:Klostergarten
DESCRIPTION:KAAY - Theater und Musical
CLASS:PUBLIC
X-ALT-DESC;FMTTYPE=text/html:KAAY - Theater und Musical
END:VEVENT
END:VCALENDAR
