BEGIN:VCALENDAR
PRODID:-//dvv-bw.de//dvv.Portalplattform//DE
VERSION:2.0
METHOD:PUBLISH
BEGIN:VEVENT
DTSTART:20260516T170000Z
DTEND:20260516T190000Z
DTSTAMP:20260420T060452Z
UID:4485954-4450554-1778882400000
SUMMARY:Italienische Nacht mit den "ROSSINIS"
LOCATION:Marktplatz Tauberbischofsheim, Marktplatz, 97941 Tauberbischofsheim
DESCRIPTION:Live-Band: ROSSINIS\nVeranstalter und Bewirtung: Bischemer Kröten\, TauBar und Carellas
CLASS:PUBLIC
X-ALT-DESC;FMTTYPE=text/html:Live-Band: ROSSINIS<br>Veranstalter und Bewirtung: Bischemer Kröten\, TauBar und Carellas
END:VEVENT
END:VCALENDAR
