BEGIN:VCALENDAR
PRODID:-//dvv-bw.de//dvv.Portalplattform//DE
VERSION:2.0
METHOD:PUBLISH
BEGIN:VEVENT
DTSTART:20261114T230000Z
DTEND:20261114T230000Z
DTSTAMP:20260425T140236Z
UID:4249316-4249365-1794697200000
SUMMARY:Geführte „Dahlgedächtniswanderung“ Tauberbischofsheim (8 km)
DESCRIPTION:Wanderführer: H. Engert\, U. Aue\nDie Teilnahme an der Wanderung selbst ist kostenfrei und auch Nichtmitglieder und Feriengäste sind herzlich willkommen! Evtl. fallen Fahrkosten (bei den Wanderungen\, die nicht ab Tauberbischofsheim erfolgen) und Verpflegungskosten (bei einer Einkehr unterwegs) an.\nKinder können in Begleitung der Eltern ebenfalls teilnehmen.\nDie Teilnahme an den Vereinswanderungen erfolgt auf eigene Gefahr. Für eigene Unfälle oder Verluste übernimmt der Verein keinerlei Haftung.\nEs wird zudem auf Abschnitt 5 der Bundeswanderordnung hingewiesen\, wonach den Anordnungen des/der Wanderführer/s Folge zu leisten ist. Dies gilt insbesondere in Bezug auf Natur- und Denkmalschutz\, Aufräumen der Rastplätze\, Forst- und Wildschutz.\nNähere Informationen wie Startzeit und Startpunkt werden einige Tage zuvor in den Aushängekästen in der Fußgängerzone (Nähe Marktplatz und neben Maria-Hilf-Kapelle) oder in der Presse bekannt gegeben.
CLASS:PUBLIC
X-ALT-DESC;FMTTYPE=text/html:Wanderführer: H. Engert\, U. Aue<br>Die Teilnahme an der Wanderung selbst ist kostenfrei und auch Nichtmitglieder und Feriengäste sind herzlich willkommen! Evtl. fallen Fahrkosten (bei den Wanderungen\, die nicht ab Tauberbischofsheim erfolgen) und Verpflegungskosten (bei einer Einkehr unterwegs) an.<br>Kinder können in Begleitung der Eltern ebenfalls teilnehmen.<br>Die Teilnahme an den Vereinswanderungen erfolgt auf eigene Gefahr. Für eigene Unfälle oder Verluste übernimmt der Verein keinerlei Haftung.<br>Es wird zudem auf Abschnitt 5 der Bundeswanderordnung hingewiesen\, wonach den Anordnungen des/der Wanderführer/s Folge zu leisten ist. Dies gilt insbesondere in Bezug auf Natur- und Denkmalschutz\, Aufräumen der Rastplätze\, Forst- und Wildschutz.<br>Nähere Informationen wie Startzeit und Startpunkt werden einige Tage zuvor in den Aushängekästen in der Fußgängerzone (Nähe Marktplatz und neben Maria-Hilf-Kapelle) oder in der Presse bekannt gegeben.
END:VEVENT
END:VCALENDAR
