BEGIN:VCALENDAR
PRODID:-//dvv-bw.de//dvv.Portalplattform//DE
VERSION:2.0
METHOD:PUBLISH
BEGIN:VEVENT
DTSTART:20260710T140000Z
DTEND:20260710T160000Z
DTSTAMP:20260420T125719Z
UID:4475714-4475607-1783634400000
SUMMARY:Fechtjubiläum
LOCATION:Schlossplatz, Schlossplatz, 97941 Tauberbischofsheim
DESCRIPTION:15:30 Uhr | Festakt & Reden am SchlossplatzBürgermeisterin Anette Schmidt undEhrenpräsident des IOC Dr. Thomas Bach\n16:00 Uhr | FechtdarbietungEine faszinierende Fechtdarbietung entführt Siein die Welt der Musketierewww.tauberbischofsheim.de | www.fc-tbb.deAktuelles: Veranstaltungskalendern Tauberbischofsheim\n17:00-21:00 Uhr | Musikalische Unterhaltung mit Dixie-Eight\n16:00-23:00 Uhr | Kulinarisches ErlebnisKulinarische Highlight bieten Theos Bistro unddie Taubar. Eine vielfältige Auswahl an Getränkenwerden von der Weinhandlung Claudia Wölpper Murphyund den Kellergeistern angeboten.\n21:00 Uhr | Bei deutscher Beteiligung: Public ViewingLive-Übertragung der Fußball- WM
CLASS:PUBLIC
X-ALT-DESC;FMTTYPE=text/html:15:30 Uhr | Festakt & Reden am SchlossplatzBürgermeisterin Anette Schmidt undEhrenpräsident des IOC Dr. Thomas Bach<br>16:00 Uhr | FechtdarbietungEine faszinierende Fechtdarbietung entführt Siein die Welt der Musketierewww.tauberbischofsheim.de | www.fc-tbb.deAktuelles: Veranstaltungskalendern Tauberbischofsheim<br>17:00-21:00 Uhr | Musikalische Unterhaltung mit Dixie-Eight<br>16:00-23:00 Uhr | Kulinarisches ErlebnisKulinarische Highlight bieten Theos Bistro unddie Taubar. Eine vielfältige Auswahl an Getränkenwerden von der Weinhandlung Claudia Wölpper Murphyund den Kellergeistern angeboten.<br>21:00 Uhr | Bei deutscher Beteiligung: Public ViewingLive-Übertragung der Fußball- WM
END:VEVENT
END:VCALENDAR
