BEGIN:VCALENDAR
PRODID:-//dvv-bw.de//dvv.Portalplattform//DE
VERSION:2.0
METHOD:PUBLISH
BEGIN:VEVENT
DTSTART:20260524T160000Z
DTEND:20260524T173000Z
DTSTAMP:20260423T215959Z
UID:4073434-3938628-1779573600000
SUMMARY:Erwachsenen- und Kinderkonzert "Die Schöpfung"
LOCATION:Stadtkirche St. Martin, St.-Lioba-Platz 1, 97941 Tauberbischofsheim
DESCRIPTION:Konzert "Die Schöpfung" für Klein und Groß.\nKinderkonzert: 15.30 bis 16.30 Uhr\nAbendkonzert: 18 bis 19.30 Uhr\n\n\nDer Höhepunkt der musikkirche Tauberbischofsheim 2026\nJoseph Haydn: Die Schöpfung (Hob. XXI:2)\nStella Ulrich (Sopran)\, Johannes Mayer (Tenor)\, Florian Kontschak (Bass)\, Kammerchor\nOrganisation: Julia Kohler\nPremiere in der musikkirche Tauberbischofsheim: Kinderfassung eines Oratoriums\nWeitere Informationen unter www.bezirkskantorat-tbb.de/veranstaltungen/aktuell/\n\n\n\n\n\nPreise\nab 10\,00 €\n\nKinderfassung: Karten zum Preis von 15 € / ermäßigt 10 €\nErwachsenenkonzert: Karten zum Preis von 25 € (zzgl. 3 € an der Abendkasse) / ermäßigt 15 €\nVorverkauf: www.reservix.de\, an allen Reservix-VVK-Stellen und jeweils 45 Minuten vor Konzertbeginn an der Abendkasse.\n \n\n\n\nAnmeldung und Vorverkauf\nTickets im Vorverkauf erhältlich\n\nVorverkauf: www.reservix.de\, an allen Reservix-VVK-Stellen und jeweils 45 Minuten vor Konzertbeginn an der Abendkasse.
CLASS:PUBLIC
X-ALT-DESC;FMTTYPE=text/html:Konzert "Die Schöpfung" für Klein und Groß.<br>Kinderkonzert: 15.30 bis 16.30 Uhr<br>Abendkonzert: 18 bis 19.30 Uhr<br><br><br>Der Höhepunkt der musikkirche Tauberbischofsheim 2026<br>Joseph Haydn: Die Schöpfung (Hob. XXI:2)<br>Stella Ulrich (Sopran)\, Johannes Mayer (Tenor)\, Florian Kontschak (Bass)\, Kammerchor<br>Organisation: Julia Kohler<br>Premiere in der musikkirche Tauberbischofsheim: Kinderfassung eines Oratoriums<br>Weitere Informationen unter www.bezirkskantorat-tbb.de/veranstaltungen/aktuell/<br><br><br><br><br><br>Preise<br>ab 10\,00 &euro;<br><br>Kinderfassung: Karten zum Preis von 15 &euro; / ermäßigt 10 &euro;<br>Erwachsenenkonzert: Karten zum Preis von 25 &euro; (zzgl. 3 &euro; an der Abendkasse) / ermäßigt 15 &euro;<br>Vorverkauf: www.reservix.de\, an allen Reservix-VVK-Stellen und jeweils 45 Minuten vor Konzertbeginn an der Abendkasse.<br> <br><br><br><br>Anmeldung und Vorverkauf<br>Tickets im Vorverkauf erhältlich<br><br>Vorverkauf: www.reservix.de\, an allen Reservix-VVK-Stellen und jeweils 45 Minuten vor Konzertbeginn an der Abendkasse.
END:VEVENT
END:VCALENDAR
