BEGIN:VCALENDAR
PRODID:-//dvv-bw.de//dvv.Portalplattform//DE
VERSION:2.0
METHOD:PUBLISH
BEGIN:VEVENT
DTSTART:20261128T160000Z
DTEND:20261128T210000Z
DTSTAMP:20260421T125850Z
UID:4122313-4110498-1795820400000
SUMMARY:Dittwarer Dorfweihnacht
DESCRIPTION:Gemeinsam in die Adventszeit\nDie Dorfweihnacht beginnt um 17 Uhr mit einem Open-Air-Gottesdienst am Rathausplatz. Im Anschluss darf der Abend auf dem weihnachtlich geschmückten Platz mit heißen und kalten Getränken sowie Leckerem vom Grill genossen werden. Die ehemalige "Viehwaage" wird zur stimmungsvollen Bar umgewandelt.\nDie Dorfgemeinschaft WIR sind Dittwar freut sich auf zahlreiche Besucher!\n\n \nTermine\n29.11.\, 17:00–22:00 Uhr 28.11.2026\, 17:00–22:00 Uhr
CLASS:PUBLIC
X-ALT-DESC;FMTTYPE=text/html:Gemeinsam in die Adventszeit<br>Die Dorfweihnacht beginnt um 17 Uhr mit einem Open-Air-Gottesdienst am Rathausplatz. Im Anschluss darf der Abend auf dem weihnachtlich geschmückten Platz mit heißen und kalten Getränken sowie Leckerem vom Grill genossen werden. Die ehemalige "Viehwaage" wird zur stimmungsvollen Bar umgewandelt.<br>Die Dorfgemeinschaft WIR sind Dittwar freut sich auf zahlreiche Besucher!<br><br> <br>Termine<br>29.11.\, 17:00&ndash;22:00 Uhr 28.11.2026\, 17:00&ndash;22:00 Uhr
END:VEVENT
END:VCALENDAR
