BEGIN:VCALENDAR
PRODID:-//dvv-bw.de//dvv.Portalplattform//DE
VERSION:2.0
METHOD:PUBLISH
BEGIN:VEVENT
DTSTART:20260717T220000Z
DTEND:20260718T220000Z
DTSTAMP:20260420T091212Z
RRULE;FREQ=DAILY;UNTIL=20260719T215959Z
UID:4183557-4183471-1784325600000
SUMMARY:Dittwarer Dorffest
LOCATION:Dorfplatz Dittwar\, Laurentiusstraße\, 97941 Tauberbischofsheim
DESCRIPTION:Die Dorfgemeinschaft WIR sind Dittwar laden zu Ihrem alljährlichen Dorffest ein.\nSamstag\n17 Uhr: Beginn\n18 Uhr: Feierlicher Einzug der Vereine und offizieller Bieranstich\nCa. 19.30: Live-Band\nSonntag\n10.30: Festgottesdienst unter freiem Himmel\nLivemusik mit verschiednenen Kapellen\nKinderprogramm
CLASS:PUBLIC
X-ALT-DESC;FMTTYPE=text/html:Die Dorfgemeinschaft WIR sind Dittwar laden zu Ihrem alljährlichen Dorffest ein.<br>Samstag<br>17 Uhr: Beginn<br>18 Uhr: Feierlicher Einzug der Vereine und offizieller Bieranstich<br>Ca. 19.30: Live-Band<br>Sonntag<br>10.30: Festgottesdienst unter freiem Himmel<br>Livemusik mit verschiednenen Kapellen<br>Kinderprogramm
END:VEVENT
END:VCALENDAR
