BEGIN:VCALENDAR
PRODID:-//dvv-bw.de//dvv.Portalplattform//DE
VERSION:2.0
METHOD:PUBLISH
BEGIN:VEVENT
DTSTART:20260724T220000Z
DTEND:20260725T220000Z
DTSTAMP:20260420T121435Z
RRULE;FREQ=DAILY;UNTIL=20260726T215959Z
UID:4450307-4450551-1784930400000
SUMMARY:Dienstadter Jakobifest mit traditionellem Kesselfleischessen
DESCRIPTION:Die Heimat- und Naturfreunde Dienstadt bestreiten zusammen mit der Freiwilligen Feuerwehr Dienstadt das tradtionelle Jakobifest mit Kesselfleischessen.
CLASS:PUBLIC
X-ALT-DESC;FMTTYPE=text/html:Die Heimat- und Naturfreunde Dienstadt bestreiten zusammen mit der Freiwilligen Feuerwehr Dienstadt das tradtionelle Jakobifest mit Kesselfleischessen.
END:VEVENT
END:VCALENDAR
