BEGIN:VCALENDAR
PRODID:-//dvv-bw.de//dvv.Portalplattform//DE
VERSION:2.0
METHOD:PUBLISH
BEGIN:VEVENT
DTSTART:20260719T090000Z
DTEND:20260719T160000Z
DTSTAMP:20260420T121723Z
UID:4244351-3849811-1784412000000
SUMMARY:Berg- und Hüttenfest beim Spessartverein
LOCATION:ADAC-Hütte
DESCRIPTION:Mittagessen\, Kaffee- und Kuchen\, gemütliches Beisammensein.\n\nOrt/Treffpunkt\nSpessarthütte\n97941 Tauberbischofsheim\n\nVeranstalter\nSpessartverein Wanderfreunde Tauberbischofsheim e. V.
CLASS:PUBLIC
X-ALT-DESC;FMTTYPE=text/html:Mittagessen\, Kaffee- und Kuchen\, gemütliches Beisammensein.<br><br>Ort/Treffpunkt<br>Spessarthütte<br>97941 Tauberbischofsheim<br><br>Veranstalter<br>Spessartverein Wanderfreunde Tauberbischofsheim e. V.
END:VEVENT
END:VCALENDAR
