BEGIN:VCALENDAR
PRODID:-//dvv-bw.de//dvv.Portalplattform//DE
VERSION:2.0
METHOD:PUBLISH
BEGIN:VEVENT
DTSTART:20260619T170000Z
DTEND:20260619T170000Z
DTSTAMP:20260420T114613Z
UID:4073403-4073303-1781820000000
SUMMARY:Benefizkonzert "Live im Klosterhof"
LOCATION:Parkplatz Marktplatz
DESCRIPTION:Live-Band "LOST EDEN"
Preise an der Abendkasse
CLASS:PUBLIC
X-ALT-DESC;FMTTYPE=text/html:Live-Band "LOST EDEN"<br>Preise an der Abendkasse
END:VEVENT
END:VCALENDAR
