BEGIN:VCALENDAR
PRODID:-//dvv-bw.de//dvv.Portalplattform//DE
VERSION:2.0
METHOD:PUBLISH
BEGIN:VEVENT
DTSTART:20260730T140000Z
DTEND:20260730T200000Z
DTSTAMP:20260420T113545Z
UID:4229303-4229201-1785362400000
SUMMARY:After-Work-Party
LOCATION:Schlossplatz, Schlossplatz, 97941 Tauberbischofsheim
DESCRIPTION:After-Work-Party
CLASS:PUBLIC
X-ALT-DESC;FMTTYPE=text/html:After-Work-Party
END:VEVENT
END:VCALENDAR
